BEGIN:VCALENDAR
VERSION:2.0
PRODID:
BEGIN:VEVENT
UID:145522imp
DTSTAMP:20260420T064053Z
DTSTART:20270106T160000Z
DTEND:20270106T233000Z
SUMMARY: Strategy\, Risk & Finance: Why We Do What We Do 26-27
DESCRIPTION: This seminar will help participants define their organization's strategy and particularly their sustainable competitive advantage by helping them understand their organization's unique value proposition. It will also help you and your organization understand how decisions are made and help improve the quality of the decisions required to execute their strategy. Finally\, it will help identify and hopefully mitigate risks to the execution of their organization's strategy.
We will also look at ways to find your company's unique value proposition and to measure your success at creating a sustainable competitive advantage\n 
CLASS:PUBLIC
END:VEVENT
END:VCALENDAR
