BEGIN:VCALENDAR
VERSION:2.0
PRODID:
BEGIN:VEVENT
UID:145524imp
DTSTAMP:20260419T174322Z
DTSTART:20260518T150000Z
DTEND:20260518T223000Z
SUMMARY: Build Your Team: Get Results 26-27
DESCRIPTION: Is teamwork the ultimate competitive advantage" Every manager's primary purpose is to lead a team. This seminar will help you get every member of your team on the same page\, improve performance and realize the potential of the talent you have\n 
CLASS:PUBLIC
END:VEVENT
END:VCALENDAR
