BEGIN:VCALENDAR
VERSION:2.0
PRODID:
BEGIN:VEVENT
UID:145530imp
DTSTAMP:20260420T064002Z
DTSTART:20270111T160000Z
DTEND:20270111T233000Z
SUMMARY: Build Your Team: Get Results 26-27
DESCRIPTION: Is teamwork the ultimate competitive advantage" Every manager's primary purpose is to lead a team. This seminar will help you get every member of your team on the same page\, improve performance and realize the potential of the talent you have\n 
CLASS:PUBLIC
END:VEVENT
END:VCALENDAR
