BEGIN:VCALENDAR
VERSION:2.0
PRODID:
BEGIN:VEVENT
UID:145531imp
DTSTAMP:20260419T164556Z
DTSTART:20270427T130000Z
DTEND:20270427T203000Z
SUMMARY: Build Your Team: Get Results 26-27
DESCRIPTION: Is teamwork the ultimate competitive advantage" Every manager's primary purpose is to lead a team. This seminar will help you get every member of your team on the same page\, improve performance and realize the potential of the talent you have\n 
CLASS:PUBLIC
END:VEVENT
END:VCALENDAR
