BEGIN:VCALENDAR
VERSION:2.0
PRODID:
BEGIN:VEVENT
UID:145532imp
DTSTAMP:20260419T164557Z
DTSTART:20270427T150000Z
DTEND:20270427T223000Z
SUMMARY: Build Your Team: Get Results 26-27
DESCRIPTION: Is teamwork the ultimate competitive advantage" Every manager's primary purpose is to lead a team. This seminar will help you get every member of your team on the same page\, improve performance and realize the potential of the talent you have\n 
CLASS:PUBLIC
END:VEVENT
END:VCALENDAR
