BEGIN:VCALENDAR
VERSION:2.0
PRODID:
BEGIN:VEVENT
UID:145533imp
DTSTAMP:20260419T193224Z
DTSTART:20260519T150000Z
DTEND:20260519T223000Z
SUMMARY: Know Your Cost: Double Your Profit 26-27
DESCRIPTION: Companies with poor cost information make bad decisions about products that are not "average.&mdash\; Poor information causes companies to overprice easy\, high-volume "gravy" products and underprice difficult\, low-volume "dog" products.
Regardless of whether your company sells goods or services\, learn how to double your profit by giving the dogs to your competitor and keep the gravy for yourself\n 
CLASS:PUBLIC
END:VEVENT
END:VCALENDAR
