BEGIN:VCALENDAR
VERSION:2.0
PRODID:
BEGIN:VEVENT
UID:145542imp
DTSTAMP:20260419T131133Z
DTSTART:20260512T150000Z
DTEND:20260512T223000Z
SUMMARY: Finance & Innovation: Reinvent Your Department & Company 26-27
DESCRIPTION: Innovation drives economic growth. The key to reigniting the American economy is reigniting innovation. Innovation can be fostered\, nurtured\, encouraged and sustained by our companies and organizations.
Innovation is not solely the purview of marketing\, sales\, service or production. Financial managers can create organizations that thrive on innovation or kill new ideas. They may choose to help develop and maintain practices that nurture innovation\, or they can just maintain the status quo. Truly innovative finance professionals provide new\, more meaningful and actionable information to all employees\n 
CLASS:PUBLIC
END:VEVENT
END:VCALENDAR
