BEGIN:VCALENDAR
VERSION:2.0
PRODID:
BEGIN:VEVENT
UID:145548imp
DTSTAMP:20260420T094618Z
DTSTART:20270105T160000Z
DTEND:20270105T233000Z
SUMMARY: Finance & Innovation: Reinvent Your Department & Company 26-27
DESCRIPTION: Innovation drives economic growth. The key to reigniting the American economy is reigniting innovation. Innovation can be fostered\, nurtured\, encouraged and sustained by our companies and organizations.
Innovation is not solely the purview of marketing\, sales\, service or production. Financial managers can create organizations that thrive on innovation or kill new ideas. They may choose to help develop and maintain practices that nurture innovation\, or they can just maintain the status quo. Truly innovative finance professionals provide new\, more meaningful and actionable information to all employees\n 
CLASS:PUBLIC
END:VEVENT
END:VCALENDAR
