BEGIN:VCALENDAR
VERSION:2.0
PRODID:
BEGIN:VEVENT
UID:145554imp
DTSTAMP:20260419T201757Z
DTSTART:20270309T160000Z
DTEND:20270309T193000Z
SUMMARY: Acquisitions for Business Growth: Strategy\, Integration & Due Diligence 26-27
DESCRIPTION: Mergers\, acquisitions and alliances have been &mdash\; and will continue to be &mdash\; major avenues to organizational growth and increased competitive advantage. Yet\, despite the great initial promise of many business mergers and alliances\, few seem to yield the anticipated results. Numerous studies indicate that between 55% and 77% of mergers fail to accomplish their intended purpose. This course helps CFOs\, controllers and their advisors identify\, negotiate and consummate mergers and acquisitions that create shareholder value while avoiding the many traps that can cause post-acquisition failure\n 
CLASS:PUBLIC
END:VEVENT
END:VCALENDAR
