BEGIN:VCALENDAR
VERSION:2.0
PRODID:
BEGIN:VEVENT
UID:145557imp
DTSTAMP:20260420T171901Z
DTSTART:20261116T160000Z
DTEND:20261116T193000Z
SUMMARY: Cash Management Techniques: Cash Does Not Manage Itself! 26-27
DESCRIPTION: Are you managing your cash\, or is your cash managing you" Can you effectively project cash position a week\, month or year from now" This seminar demonstrates how to develop long and short-term cash management processes\, allowing for productive days and restful nights. This session provides timeless cash management techniques and strategies\n 
CLASS:PUBLIC
END:VEVENT
END:VCALENDAR
