BEGIN:VCALENDAR
VERSION:2.0
PRODID:
BEGIN:VEVENT
UID:145559imp
DTSTAMP:20260421T025836Z
DTSTART:20260813T160000Z
DTEND:20260813T193000Z
SUMMARY: Create Reports that Matter: Turn Information Into Action! 26-27
DESCRIPTION: Financial managers at all levels produce volumes of reports every year. Unfortunately\, not all these reports generate an equivalent degree of action! Learn how to plan\, process and effectively present financial information.
This seminar provides answers for accountants who want to become better catalysts for action. Learn directly from professionals who know how to generate actionable responses to their reports. 
If you wish to have a greater impact on your organization and your career\, you cannot afford to miss this critically important and interactive program\n 
CLASS:PUBLIC
END:VEVENT
END:VCALENDAR
