BEGIN:VCALENDAR
VERSION:2.0
PRODID:
BEGIN:VEVENT
UID:145562imp
DTSTAMP:20260420T234904Z
DTSTART:20260723T160000Z
DTEND:20260723T193000Z
SUMMARY: Critical Thinking Skills: For Financial Professionals 26-27
DESCRIPTION: "What were they thinking"&mdash\; Why do business leaders sometimes make decisions that severely damage themselves and their organizations" It is tempting to attribute poor choices to a leader's assumed incompetence\, inexperience\, bad character or low intelligence &mdash\; but reality is much more complex.
Understand what factors really cause the most blunders. When business decisions go badly wrong\, financial professionals usually find themselves deeply involved. This seminar provides conceptual and case study material to better equip you for the challenge\n 
CLASS:PUBLIC
END:VEVENT
END:VCALENDAR
