BEGIN:VCALENDAR
VERSION:2.0
PRODID:
BEGIN:VEVENT
UID:145574imp
DTSTAMP:20260420T235023Z
DTSTART:20260727T160000Z
DTEND:20260727T193000Z
SUMMARY: How Good Companies Become Great: Secrets to Success 26-27
DESCRIPTION: Some companies are "born" great\; others change and become great along the way. This seminar will discuss how both new and established companies become great. This seminar benchmarks world class companies to understand the underlying principles that made them great.
The seminar begins with key lessons about business start-ups from Paul Hawken\, author of Growing a Business and Guy Kawasaki\, author of Art of the Start and Enchantment.
Next\, the seminar looks at research on existing businesses\, beginning with the management classic In Search of Excellence and then focusing on Jim Collins" research presented in Built to Last\, Good to Great\, How the Mighty Fall and Great by Choice\n 
CLASS:PUBLIC
END:VEVENT
END:VCALENDAR
