BEGIN:VCALENDAR
VERSION:2.0
PRODID:
BEGIN:VEVENT
UID:145580imp
DTSTAMP:20260419T202142Z
DTSTART:20270217T160000Z
DTEND:20270217T233000Z
SUMMARY: Only Financial Officer 3.0: Skills for Smaller Company Financial Managers 26-27
DESCRIPTION: The title "Chief Financial Officer" is not an accurate description for what many financial managers do because the word "chief" implies the company has more than one degreed accountant. This seminar covers four major topics of importance to the financial manager who must do it all.
We have designed Only Financial Officer 3.0 to give financial managers in small to medium-sized companies the high-level skills needed to act as a member of top management\n 
CLASS:PUBLIC
END:VEVENT
END:VCALENDAR
