BEGIN:VCALENDAR
VERSION:2.0
PRODID:
BEGIN:VEVENT
UID:145584imp
DTSTAMP:20260419T164734Z
DTSTART:20270423T150000Z
DTEND:20270423T183000Z
SUMMARY: Valuing A Business: What is This Company Worth 26-27
DESCRIPTION: What is your company worth" Is business value the single most important metric" This session discusses various business valuation methods for any stage company: start-up\, spin-off\, or acquisition. Many valuation methods exist. Which method is right" Which is the "best" for a given business or a given situation" CPAs and Corporate Financial Managers cannot afford to miss this course\n 
CLASS:PUBLIC
END:VEVENT
END:VCALENDAR
