BEGIN:VCALENDAR
VERSION:2.0
PRODID:
BEGIN:VEVENT
UID:145592ma
DTSTAMP:20260419T160546Z
DTSTART:20260518T130000Z
DTEND:20260518T213000Z
SUMMARY: MNCPA  Audits of Employee Benefit Plans Conference
DESCRIPTION: \n\nYour Source For Key Updates &amp\; Insights On Timely Issues\n  \n\nTackle employee benefit plans with confidence at the MNCPA Audits of Employee Benefit Plans Conference. Dive into case studies on audit pitfalls to avoid common mistakes and apply practical solutions. Gain a deeper understanding of ESOPs and how they differ from typical 401(k) audits. Learn about the various types of audits and identify the tripping points to navigate challenges effectively. \n  \nAudience\n\nCPAs\, auditors and other financial professionals who are responsible for auditing employee benefit plans\n  \nNote: This conference is a partnership with MNCPA. Reconciliation and certificate of attendance will take approximately a week once conference has concluded. \n  
CLASS:PUBLIC
END:VEVENT
END:VCALENDAR
