BEGIN:VCALENDAR
VERSION:2.0
PRODID:
BEGIN:VEVENT
UID:145594ma
DTSTAMP:20260420T051313Z
DTSTART:20260602T180000Z
DTEND:20260602T213000Z
SUMMARY: Crucial Real Estate Tax Strategies
DESCRIPTION: Explore key tax strategies for real estate investors and their advisers. Gain insights into optimizing real estate purchases\, navigating passive activity rules -- including exceptions for real estate professionals and short-term rentals -- and leveraging the self-employment tax exception for rental real estate. Learn how to maximize deductions through partial disposition losses\, convert nondeductible interest into deductible expenses and execute like-kind exchanges effectively. Unpack the complexities of Airbnb taxation and take a deep dive into claiming bonus depreciation\, Section 179 deductions and de minimis deductions on real estate.
CLASS:PUBLIC
END:VEVENT
END:VCALENDAR
