BEGIN:VCALENDAR
VERSION:2.0
PRODID:
BEGIN:VEVENT
UID:145595ma
DTSTAMP:20260420T112523Z
DTSTART:20260622T180000Z
DTEND:20260622T201500Z
SUMMARY: Understanding the Form 990 & Its Preparation Prequisites
DESCRIPTION: Navigate the complex world of Form 990 and discover how its structure\, definitions and disclosures shape public perception and regulatory oversight. Gain a clear understanding of the form's core components\, the triggers for its schedules and the key terms every preparer must know. Learn how to identify data sources within an organization\, manage sensitive disclosures and guide board members in understanding what the completed form communicates. Gain the clarity and confidence needed to complete Form 990 accurately and effectively.
CLASS:PUBLIC
END:VEVENT
END:VCALENDAR
