BEGIN:VCALENDAR
VERSION:2.0
PRODID:
BEGIN:VEVENT
UID:145600ma
DTSTAMP:20260420T080825Z
DTSTART:20261204T230000Z
DTEND:20261205T000000Z
SUMMARY: CalCPA Workplace Wellness 2026 - Emotional Intelligence
DESCRIPTION: Co-hosted by CalCPA President &amp\; CEO Denise LeDuc Froemming and CalCPA Health CEO Ron Lang\, CalCPA's Workplace Wellness Series offer actionable strategies to support employee wellbeing\, and are free to members. Mastering our emotions is a lifelong journey essential for personal fulfillment and professional success. In this engaging class\, participants will explore various types of emotions\, delve into how neuroscience influences our reactions to triggers\, and examine the profound impact our feelings have on our daily lives. Those who are emotionally intelligent tend to be empathetic\, positive\, productive\, and goal-oriented qualities that many of us aspire to embody. If you're looking to enhance your emotional intelligence and cultivate these traits\, this is the perfect class for you!
CLASS:PUBLIC
END:VEVENT
END:VCALENDAR
