BEGIN:VCALENDAR
VERSION:2.0
PRODID:
BEGIN:VEVENT
UID:145601ma
DTSTAMP:20260422T083339Z
DTSTART:20260814T220000Z
DTEND:20260814T230000Z
SUMMARY: CalCPA Workplace Wellness 2026 - Staying Focused During Times of Change
DESCRIPTION: Co-hosted by CalCPA President &amp\; CEO Denise LeDuc Froemming and CalCPA Health CEO Ron Lang\, CalCPA's Workplace Wellness Series offer actionable strategies to support employee wellbeing\, and are free to members. In a world that has undergone so many changes in recent years\, staying focused and present is more challenging than ever. In this insightful class\, participants will explore the value of mindfulness and concentration during times of change. Together\, we will examine how distractions impact our brains\, understand the importance of emotional regulation\, and discover best practices and resources to enhance our focus. By the end of this session\, you'll be equipped to cultivate mindfulness and become the best version of yourself amidst life's uncertainties. Join us to unlock the power of presence!
CLASS:PUBLIC
END:VEVENT
END:VCALENDAR
