BEGIN:VCALENDAR
VERSION:2.0
PRODID:
BEGIN:VEVENT
UID:145602ma
DTSTAMP:20260420T080926Z
DTSTART:20261023T220000Z
DTEND:20261023T230000Z
SUMMARY: CalCPA Workplace Wellness 2026 - The Art of Meaningful Choices
DESCRIPTION: Co-hosted by CalCPA President &amp\; CEO Denise LeDuc Froemming and CalCPA Health CEO Ron Lang\, CalCPA's Workplace Wellness Series offer actionable strategies to support employee wellbeing\, and are free to members. Explore how intentional sacrifice\, smart prioritization\, and realistic expectations can help you grow personally and professionally. This session provides tools like the Eisenhower Matrix and MoSCoW Method to help you focus on what truly matters and make choices that align with your long-term goals. Learn to navigate fear\, protect your well-being\, and build a support system that keeps you grounded while pursuing what's most important.
CLASS:PUBLIC
END:VEVENT
END:VCALENDAR
